BEGIN:VCALENDAR
VERSION:2.0
PRODID:-//hacksw/handcal//NONSGML v1.0//EN
BEGIN:VEVENT
SUMMARY:Regroupement kata prepa France Metz
UID:e41f9d6e-775b-4217-b6b5-240472b12ccc
DTSTART:20260319T170000Z
DTEND:20260319T190000Z
LOCATION:Localisation 1 RUE DES HAUTS PEUPLIERS 57070 METZ
CATEGORIES:Sportif
STATUS:
URL;VALUE=URI:https://judoclubcolombeylesbelles.sportsregions.fr/evenements/2026/03/19/regroupement-kata-prepa-france-metz-2426578
END:VEVENT
END:VCALENDAR
