BEGIN:VCALENDAR
VERSION:2.0
PRODID:-//hacksw/handcal//NONSGML v1.0//EN
BEGIN:VEVENT
SUMMARY:Championnat de France kata
UID:b1250f21-378e-44b4-974d-bcafd614d7e8
DTSTART:20260328T060000Z
DTEND:20260328T153000Z
LOCATION:Localisation impasse alain fournier 83130 la garde
CATEGORIES:Sportif
STATUS:
DESCRIPTION:<p><b><u>Programme previsionnel - Samedi 28 mars
 :</u></b><br>
 <br>
 • A partir de 7h00 : ouverture de la
 salle<br>
 • 7h30 – 8h30 : echauffement<br>
 • 8h30 : phases
 eliminatoires<br>
 • 16h30 : fin previsionnelle</p>
URL;VALUE=URI:https://judoclubcolombeylesbelles.sportsregions.fr/evenements/2026/03/28/championnat-de-france-kata-2426583
END:VEVENT
END:VCALENDAR
