BEGIN:VCALENDAR
VERSION:2.0
PRODID:-//hacksw/handcal//NONSGML v1.0//EN
BEGIN:VEVENT
SUMMARY:TOURNOI INTER DEP EQUIPES MINIMES DE DEPARTEMENT
UID:c5d0e94b-1439-47dc-80ae-bce83df7e369
DTSTART:20260411T220000Z
DTEND:20260412T220000Z
LOCATION:Localisation 180 RUE DU HALICHARD 88140 CONTREXEVILLE
CATEGORIES:Sportif
STATUS:
DESCRIPTION:<p><span style="color:#c0392b;"><strong>SUR SELECTION DU
 CD 54</strong></span></p>
URL;VALUE=URI:https://judoclubcolombeylesbelles.sportsregions.fr/evenements/2026/04/12/tournoi-inter-dep-equipes-minimes-de-departement-2433136
END:VEVENT
END:VCALENDAR
