BEGIN:VCALENDAR
VERSION:2.0
PRODID:-//hacksw/handcal//NONSGML v1.0//EN
BEGIN:VEVENT
SUMMARY:STAGE CLUB AVRIL Gymnase CLB
UID:ac083dce-679a-4e9e-81da-506577eff454
DTSTART:20260420T070000Z
DTEND:20260424T150000Z
LOCATION:Localisation   
CATEGORIES:Sportif
STATUS:
URL;VALUE=URI:https://judoclubcolombeylesbelles.sportsregions.fr/evenements/2026/04/20/stage-club-avril-gymnase-clb-2433134
END:VEVENT
END:VCALENDAR
