BEGIN:VCALENDAR
VERSION:2.0
PRODID:-//hacksw/handcal//NONSGML v1.0//EN
BEGIN:VEVENT
SUMMARY:Championnat LGEST SENIOR 3D
UID:e2435e6d-c224-4433-bc44-25e852165242
DTSTART:20260425T220000Z
DTEND:20260426T220000Z
LOCATION:Localisation 8 AVENUE FRANCOIS MAURIAC 51110 REIMS
CATEGORIES:Sportif
STATUS:
DESCRIPTION:<p><strong>Programme 3D</strong></p>
 
 <p>ATTENTION
 NOUVEAUX HORAIRES :<br>
 <br>
 Pesee feminines 3eme DIV :
 8h30-9h15<br>
 Debut des combats : 10h00<br>
 Fin previsionnelle :
 12h45<br>
 <br>
 Pesee masculins 3eme DIV : 13h00-13h45<br>
 Debut des
 combats : 14h45<br>
 Fin previsionnelle : 19h45</p>
URL;VALUE=URI:https://judoclubcolombeylesbelles.sportsregions.fr/evenements/2026/04/26/championnat-lgest-senior-3d-2433150
END:VEVENT
END:VCALENDAR
